BEGIN:VCALENDAR
VERSION:2.0
PRODID:-//Peppertree Rescue - ECPv6.14.2//NONSGML v1.0//EN
CALSCALE:GREGORIAN
METHOD:PUBLISH
X-WR-CALNAME:Peppertree Rescue
X-ORIGINAL-URL:https://peppertree.org
X-WR-CALDESC:Events for Peppertree Rescue
REFRESH-INTERVAL;VALUE=DURATION:PT1H
X-Robots-Tag:noindex
X-PUBLISHED-TTL:PT1H
BEGIN:VTIMEZONE
TZID:America/New_York
BEGIN:DAYLIGHT
TZOFFSETFROM:-0500
TZOFFSETTO:-0400
TZNAME:EDT
DTSTART:20250309T070000
END:DAYLIGHT
BEGIN:STANDARD
TZOFFSETFROM:-0400
TZOFFSETTO:-0500
TZNAME:EST
DTSTART:20251102T060000
END:STANDARD
END:VTIMEZONE
BEGIN:VEVENT
DTSTART;TZID=America/New_York:20250927T110000
DTEND;TZID=America/New_York:20250927T140000
DTSTAMP:20260423T084830
CREATED:20250922T202944Z
LAST-MODIFIED:20250922T203938Z
UID:14549-1758970800-1758981600@peppertree.org
SUMMARY:Pet Connection Cooking for Paws Adoption Event September 27 at Healthy Pet Center and Earl B Feiden Appliance in Latham
DESCRIPTION:🎉 Cooking for Paws – Adoption & Family Fun Event! 🎉Hosted by Healthy Pet Center & Earl B. Feiden Appliance \n10 rescue groups on-site with adorable\, adoptable pets! \n💰 Pet Connection will donate $50 for every adoption or application that leads to an adoption❤️ $5\,000 will be donated to help local rescues! \n📍 FREE Microchip Clinic\, for ALL dogs\, not just newly adopted dogs\, hosted by Pet Connection & The Animal Protective Foundation \nDoggy ice cream booth – cool treats for your four-legged friends!🍁 Fall-themed photo backdrop – perfect for Instagram-worthy pet pics! \n🎁 Raffles\, giveaways\, and surprise activities for the whole family \n🍽 Special Guest: Celebrity Chef Ric Orlando \n\n\nCooking up a delicious late lunch for attendees \n\n\nJust a small donation to Pet Connection gets you a plate! \n\n\n📸 Bring the pets\, bring the kids\, bring your appetite — and help us support animals in need!
URL:https://peppertree.org/event/cooking-for-paws-adoption-event-september-27-at-healthy-pet-center-and-earl-b-feiden-appliance-in-latham/
LOCATION:Healthy Pet Center and Earl B Feiden\, 775-785 Route 9\, Latham\, NY\, 12110\, United States
ATTACH;FMTTYPE=image/jpeg:https://peppertree.org/wp-content/uploads/2025/09/Cooking-For-Paws-Event.jpg
END:VEVENT
END:VCALENDAR